BEGIN:VCALENDAR
VERSION:2.0
PRODID:-//Jó, hogy vagy! Életvédők Szövetsége - ECPv6.6.3//NONSGML v1.0//EN
CALSCALE:GREGORIAN
METHOD:PUBLISH
X-WR-CALNAME:Jó, hogy vagy! Életvédők Szövetsége
X-ORIGINAL-URL:https://johogyvagy.hu
X-WR-CALDESC:Events for Jó, hogy vagy! Életvédők Szövetsége
REFRESH-INTERVAL;VALUE=DURATION:PT1H
X-Robots-Tag:noindex
X-PUBLISHED-TTL:PT1H
BEGIN:VTIMEZONE
TZID:UTC
BEGIN:STANDARD
TZOFFSETFROM:+0000
TZOFFSETTO:+0000
TZNAME:UTC
DTSTART:20260101T000000
END:STANDARD
END:VTIMEZONE
BEGIN:VEVENT
DTSTART;TZID=UTC:20260912T100000
DTEND;TZID=UTC:20260912T130000
DTSTAMP:20260422T221629
CREATED:20260422T121513Z
LAST-MODIFIED:20260422T121513Z
UID:4916-1789207200-1789218000@johogyvagy.hu
SUMMARY:Mindenki Születésnapja Séta 2026
DESCRIPTION:Találkozzunk 2026. szeptember 12-én\, szombaton 10:00-kor\na Tudományos Akadémia előtt és\nálljunk ki együtt az élet védelmében!
URL:https://johogyvagy.hu/esemeny/mindenki-szuletesnapja-seta-2026/
LOCATION:Magyar Tudományos Akadémia\, Széchenyi István tér 9.\, Budapest\, 1051\, Hungary
CATEGORIES:Életvédelem
ATTACH;FMTTYPE=image/jpeg:https://johogyvagy.hu/wp-content/uploads/2025/09/Mindenki-Szuletesnapja.jpg
END:VEVENT
END:VCALENDAR