BEGIN:VCALENDAR
VERSION:2.0
PRODID:-//Jó, hogy vagy! Életvédők Szövetsége - ECPv6.6.3//NONSGML v1.0//EN
CALSCALE:GREGORIAN
METHOD:PUBLISH
X-WR-CALNAME:Jó, hogy vagy! Életvédők Szövetsége
X-ORIGINAL-URL:https://johogyvagy.hu
X-WR-CALDESC:Events for Jó, hogy vagy! Életvédők Szövetsége
REFRESH-INTERVAL;VALUE=DURATION:PT1H
X-Robots-Tag:noindex
X-PUBLISHED-TTL:PT1H
BEGIN:VTIMEZONE
TZID:UTC
BEGIN:STANDARD
TZOFFSETFROM:+0000
TZOFFSETTO:+0000
TZNAME:UTC
DTSTART:20250101T000000
END:STANDARD
END:VTIMEZONE
BEGIN:VEVENT
DTSTART;TZID=UTC:20251004T110000
DTEND;TZID=UTC:20251004T130000
DTSTAMP:20260421T235657
CREATED:20250925T102445Z
LAST-MODIFIED:20250930T103712Z
UID:4372-1759575600-1759582800@johogyvagy.hu
SUMMARY:Séta a családokért a Pécs Pride napján
DESCRIPTION:Készen áll\, hogy a családokért sétára keljen?\nA rendőrség végérvényesen betiltotta\, mégis megtartják a genderideológiai aktivisták október 4-re tervezett felvonulásukat Pécsen.\n\n\n\nItt az alkalom\, hogy kiálljunk hazánk törvényes rendeje mellett és békés\, jó hangulatú sétával ünnepeljük a magyar családokat.\n\nGyülekezési helyszín: Pécs\, Indóház tér (vasútállomás)\nIdőpont: 2025. október 4. 11:00\n\nA terv szerint zeneszó mellett átsétálunk a belvároson a Dóm térig\, ahol közösen imádkozunk\, majd szabad városnézés következik.\n \nKérjük\, az űrlap kitöltésével jelezze részvételi szándékát szeptember 27-ig!
URL:https://johogyvagy.hu/esemeny/seta-a-csaladokert/
LOCATION:Pécs\, Indóház tér\, Pécs\, 7623\, Hungary
ATTACH;FMTTYPE=image/png:https://johogyvagy.hu/wp-content/uploads/2025/09/CitizenGO-scaled.png
END:VEVENT
END:VCALENDAR